{"text_format":"3","workbook":"xlsx","n_sheets":1,"sheets":["Sheet1"],"not_rendered":{"external_links":1,"defined_names":2},"read":"whole","date_system":"1900"}

{"sheet":"Sheet1","index":0,"n_rows":46,"n_cols":14,"rows_kept":46,"merged":[[0,1,0,13]]}
[null,"设备清理后补报废审批的资产清单"]
[]
["序号","资产号","资产成本中心","使用部门","设备号","技术标识号","技术对象描述","功能位置","功能位置描述","资产制造商","型号","购置日期","用户状态","资产账面价值"]
[1,"105000000684",{"$f":"VLOOKUP(B4,[1]Sheet1!$A:$B,2,FALSE)","v":"KC01-230"},"丝束生产部","10058051","TV-11-011","1#纺丝机 预热空气温度调节阀","KCFC-FS-006-01","1#纺丝机组","DEZURIK","BHP3W110","1996-01-01","报废",1000]
[2,"105000000691",{"$f":"VLOOKUP(B5,[1]Sheet1!$A:$B,2,FALSE)","v":"KC01-230"},"丝束生产部","10058058","TV-11-003","2#纺丝机预热空气温度调节阀","KCFC-FS-006-02","2#纺丝机组","DEZURIK","BHP3W110","1996-01-01","报废",1000]
[3,"105000000723",{"$f":"VLOOKUP(B6,[1]Sheet1!$A:$B,2,FALSE)","v":"KC01-230"},"丝束生产部","10058113","TV-11-2011","3#纺丝机预热空气温度调节阀","KCFC-FS-006-03","3#纺丝机组","DEZURIK","\"BHP,4,W110,CS,TC,S2","2005-01-20","报废",1000]
[4,"102000000253",{"$f":"VLOOKUP(B7,[1]Sheet1!$A:$B,2,FALSE)","v":"KC01-230"},"丝束生产部","10060900","11-27800","柜式分体空调-丙酮新PC间1#","KCFC-KT-001-04","丝束丙酮辅房PC和仪表I/O室","海尔空调","KFR-120LW/L","2005-01-20","报废",1316.96]
[5,"102000000254",{"$f":"VLOOKUP(B8,[1]Sheet1!$A:$B,2,FALSE)","v":"KC01-230"},"丝束生产部","10060901","11-27901","柜式分体空调-丙酮新PC间2#","KCFC-KT-001-04","丝束丙酮辅房PC和仪表I/O室","海尔空调","KFR-120LW/L","2005-01-20","报废",1316.96]
[6,"102000000255",{"$f":"VLOOKUP(B9,[1]Sheet1!$A:$B,2,FALSE)","v":"KC01-230"},"丝束生产部","10060902","11-27902","柜式分体空调-丙酮I/O间","KCFC-KT-001-04","丝束丙酮辅房PC和仪表I/O室","海尔空调","KFR-120LW/L","2005-01-20","报废",1308.18]
[7,"102000000293",{"$f":"VLOOKUP(B10,[1]Sheet1!$A:$B,2,FALSE)","v":"KC01-230"},"丝束生产部","10061004","11-28000","柜式分体空调-二期纺丝I/O机柜间","KCFC-KT-001-05","丝束MCC机房和仪表I/O室","海尔空调","KFR-120LW/L","2005-01-20","报废",1316.96]
[8,"102000001441",{"$f":"VLOOKUP(B11,[1]Sheet1!$A:$B,2,FALSE)","v":"KC01-230"},"丝束生产部","10066211","06-012.14","2B计量泵轴减速箱","KCFC-FS-006-02","2#纺丝机组","住友","CHHJ-6165Y-43","1996-01-01","报废",3200]
[9,"102000001479",{"$f":"VLOOKUP(B12,[1]Sheet1!$A:$B,2,FALSE)","v":"KC01-230"},"丝束生产部","10066333","07-003.02","1A铺丝器减速箱","KCFC-FS-007-02","铺丝、导丝、吸丝","DODGE","56WM16J30","2005-01-20","报废",1270.09]
[10,"102000001481",{"$f":"VLOOKUP(B13,[1]Sheet1!$A:$B,2,FALSE)","v":"KC01-230"},"丝束生产部","10066335","07-003.04","1B铺丝器减速箱","KCFC-FS-007-02","铺丝、导丝、吸丝","DODGE","56WM16J30","2005-01-20","报废",1270.09]
[11,"102000001501",{"$f":"VLOOKUP(B14,[1]Sheet1!$A:$B,2,FALSE)","v":"KC01-230"},"丝束生产部","10066337","07-003.06","2A铺丝器减速箱","KCFC-FS-007-02","铺丝、导丝、吸丝","DODGE","56WM16J30","2005-01-20","报废",1270.09]
[12,"102000001503",{"$f":"VLOOKUP(B15,[1]Sheet1!$A:$B,2,FALSE)","v":"KC01-230"},"丝束生产部","10066339","07-003.08","2B铺丝器减速箱","KCFC-FS-007-02","铺丝、导丝、吸丝","DODGE","56WM16J30","2005-01-20","报废",1270.09]
[13,"102000001558",{"$f":"VLOOKUP(B16,[1]Sheet1!$A:$B,2,FALSE)","v":"KC01-230"},"丝束生产部","10066341","07-203.02","3A铺丝器减速箱","KCFC-FS-007-02","铺丝、导丝、吸丝","DODGE","56WM16J30","2005-01-20","报废",1248.72]
[14,"102000001560",{"$f":"VLOOKUP(B17,[1]Sheet1!$A:$B,2,FALSE)","v":"KC01-230"},"丝束生产部","10066343","07-203.04","3B铺丝器减速箱","KCFC-FS-007-02","铺丝、导丝、吸丝","DODGE","56WM16J30","2005-01-20","报废",1248.72]
[15,"102000001603",{"$f":"VLOOKUP(B18,[1]Sheet1!$A:$B,2,FALSE)","v":"KC01-230"},"丝束生产部","10066345","07-203.06","4A铺丝器减速箱","KCFC-FS-007-02","铺丝、导丝、吸丝","DODGE","56WM16J30","2005-01-20","报废",1248.72]
[16,"102000001605",{"$f":"VLOOKUP(B19,[1]Sheet1!$A:$B,2,FALSE)","v":"KC01-230"},"丝束生产部","10066347","07-203.08","4B铺丝器减速箱","KCFC-FS-007-02","铺丝、导丝、吸丝","DODGE","56WM16J30","2005-01-20","报废",1248.72]
[17,"102000001456",{"$f":"VLOOKUP(B20,[1]Sheet1!$A:$B,2,FALSE)","v":"KC01-230"},"丝束生产部","10066533","08-002.00","摆丝液压系统","KCFC-FS-008-03","摆丝液压系统","LIVINSTON","","1996-01-01","报废",24758.57]
[18,"102000002802",{"$f":"VLOOKUP(B21,[1]Sheet1!$A:$B,2,FALSE)","v":"KC01-230"},"丝束生产部","10118530","","1A上油辊轴系","KCFC-FS-006-01","1#纺丝机组","","","2019-12-30","报废",34156.07]
[19,"102000002803",{"$f":"VLOOKUP(B22,[1]Sheet1!$A:$B,2,FALSE)","v":"KC01-230"},"丝束生产部","10118531","","1B上油辊轴系","KCFC-FS-006-01","1#纺丝机组","","","2019-12-30","报废",34156.07]
[20,"102000002804",{"$f":"VLOOKUP(B23,[1]Sheet1!$A:$B,2,FALSE)","v":"KC01-230"},"丝束生产部","10118532","","2A上油辊轴系","KCFC-FS-006-02","2#纺丝机组","","","2019-12-30","报废",34156.07]
[21,"102000002805",{"$f":"VLOOKUP(B24,[1]Sheet1!$A:$B,2,FALSE)","v":"KC01-230"},"丝束生产部","10118533","","2B上油辊轴系","KCFC-FS-006-02","2#纺丝机组","","","2019-12-30","报废",34156.07]
[22,"102000002806",{"$f":"VLOOKUP(B25,[1]Sheet1!$A:$B,2,FALSE)","v":"KC01-230"},"丝束生产部","10118534","","3A上油辊轴系","KCFC-FS-006-03","3#纺丝机组","","","2019-12-30","报废",34156.07]
[23,"102000002807",{"$f":"VLOOKUP(B26,[1]Sheet1!$A:$B,2,FALSE)","v":"KC01-230"},"丝束生产部","10118535","","3B上油辊轴系","KCFC-FS-006-03","3#纺丝机组","","","2019-12-30","报废",34156.07]
[24,"102000002808",{"$f":"VLOOKUP(B27,[1]Sheet1!$A:$B,2,FALSE)","v":"KC01-230"},"丝束生产部","10118536","","4A上油辊轴系","KCFC-FS-006-04","4#纺丝机组","","","2019-12-30","报废",34156.07]
[25,"102000002809",{"$f":"VLOOKUP(B28,[1]Sheet1!$A:$B,2,FALSE)","v":"KC01-230"},"丝束生产部","10118537","","4B上油辊轴系","KCFC-FS-006-04","4#纺丝机组","","","2019-12-30","报废",34156.09]
[26,"102000002812",{"$f":"VLOOKUP(B29,[1]Sheet1!$A:$B,2,FALSE)","v":"KC01-230"},"丝束生产部","10118542","","3A计量泵轴系","KCFC-FS-006-03","3#纺丝机组","","","2019-12-30","报废",72070.79]
[27,"102000002813",{"$f":"VLOOKUP(B30,[1]Sheet1!$A:$B,2,FALSE)","v":"KC01-230"},"丝束生产部","10118543","","3B计量泵轴系","KCFC-FS-006-03","3#纺丝机组","","","2019-12-30","报废",72070.79]
[28,"102000002816",{"$f":"VLOOKUP(B31,[1]Sheet1!$A:$B,2,FALSE)","v":"KC01-230"},"丝束生产部","10118548","","3A计量泵轴减速箱","KCFC-FS-006-03","3#纺丝机组","住友","CHHJ-6165Y-35","2019-12-30","报废",14555.75]
[29,"102000001028",{"$f":"VLOOKUP(B32,[1]Sheet1!$A:$B,2,FALSE)","v":"KC01-320"},"热动生产部","10061447","","1#综合池废液泵","KCFC-RD-334-02","化水泵设备","昆明水泵厂","YH80-50-50T","1996-01-01","报废",8381.16]
[30,"102000001029",{"$f":"VLOOKUP(B33,[1]Sheet1!$A:$B,2,FALSE)","v":"KC01-320"},"热动生产部","10061448","","2#综合池废液泵","KCFC-RD-334-02","化水泵设备","昆明水泵厂","YH80-50-50T","1996-01-01","报废",8381.16]
[31,"102000001222",{"$f":"VLOOKUP(B34,[1]Sheet1!$A:$B,2,FALSE)","v":"KC01-320"},"热动生产部","10062154","M-334-061-C","开口闪点测定仪","KCFC-JY-003-03","化水检验室","上海地质仪器厂","SYD-267","1996-01-01","报废",275]
[32,"102000001976",{"$f":"VLOOKUP(B35,[1]Sheet1!$A:$B,2,FALSE)","v":"KC01-320"},"热动生产部","10063100","FT-102－B","2#锅炉给水管流量变送器","KCFC-RD-330-02","2#锅炉","EMERSON","R200SA37NQBAMZYZZ/17","2015-07-16","报废",500]
[33,"102000001998",{"$f":"VLOOKUP(B36,[1]Sheet1!$A:$B,2,FALSE)","v":"KC01-320"},"热动生产部","10063151","FT-102C","3#锅炉给水管流量变送器","KCFC-RD-330-03","3#锅炉","EMERSON","R200SA37NQBAMZYZZ/17","2015-07-16","报废",500]
[34,"102000001728",{"$f":"VLOOKUP(B37,[1]Sheet1!$A:$B,2,FALSE)","v":"KC01-320"},"热动生产部","10065211","","3#电除尘灰斗加热控制柜","KCFC-RD-333-01","ZC-22静电除尘器","浙江诸暨市工业环保设备总厂","FDD-22","1996-01-01","报废",2000]
[35,"102000001729",{"$f":"VLOOKUP(B38,[1]Sheet1!$A:$B,2,FALSE)","v":"KC01-320"},"热动生产部","10065212","","3#电除尘振打控制柜","KCFC-RD-333-01","ZC-22静电除尘器","浙江诸暨市工业环保设备总厂","FDD-22","1996-01-01","报废",2000]
[36,"102000000025",{"$f":"VLOOKUP(B39,[1]Sheet1!$A:$B,2,FALSE)","v":"KC01-320"},"热动生产部","10066896","","柜式分体空调机—锅炉DCS机柜'（#6计算机室）","KCFC-KT-002-05","热电站主厂房控制室","","12kw/15kw功率4.8kw/4.9","2004-12-31","报废",1434.47]
[37,"103000000103",{"$f":"VLOOKUP(B40,[1]Sheet1!$A:$B,2,FALSE)","v":"KC01-350"},"设备项目部","10066844","","松下数码相机—TPM小组","KCFC-HE-004-01","行政楼","","松下LX2","2007-09-30","报废",432]
[38,"103000000216",{"$f":"VLOOKUP(B41,[1]Sheet1!$A:$B,2,FALSE)","v":"KC01-420"},"办公室","10066978","","音响设备-办公楼会议室","KCFC-HE-004-01","行政楼","","","2005-12-31","报废",3910.47]
[39,"103000000214","KC01-420","办公室","10066976","","柴油灶—餐厅","KCFC-XZ-001-01","员工食堂设备","","","2005-06-30","报废",1080]
[40,"103000000005",{"$f":"VLOOKUP(B43,[1]Sheet1!$A:$B,2,FALSE)","v":"KC01-430"},"采购供应部","10066720","","电瓶叉车-综合库云A01345","KCFC-XZ-002-02","特种车辆","合肥叉车总厂","CPD-10","1996-02-01","报废",7550]
[null,"合计",{"$nulls":11},{"$f":"SUM(N4:N43)","v":{"v":514683.0399999999,"d":"514683.04"}}]
[]
[{"$nulls":3},"设备项目部工程师：",{"$nulls":4},"设备项目部部长："]